BEGIN:VCALENDAR
VERSION:2.0
PRODID:-//sound of seed - ECPv6.15.20//NONSGML v1.0//EN
CALSCALE:GREGORIAN
METHOD:PUBLISH
X-WR-CALNAME:sound of seed
X-ORIGINAL-URL:https://soundofseed.de
X-WR-CALDESC:Veranstaltungen für sound of seed
REFRESH-INTERVAL;VALUE=DURATION:PT1H
X-Robots-Tag:noindex
X-PUBLISHED-TTL:PT1H
BEGIN:VTIMEZONE
TZID:UTC
BEGIN:STANDARD
TZOFFSETFROM:+0000
TZOFFSETTO:+0000
TZNAME:UTC
DTSTART:20250101T000000
END:STANDARD
END:VTIMEZONE
BEGIN:VEVENT
DTSTART;TZID=UTC:20260612T200000
DTEND;TZID=UTC:20260612T220000
DTSTAMP:20260423T222623
CREATED:20260408T114351Z
LAST-MODIFIED:20260408T114351Z
UID:5267-1781294400-1781301600@soundofseed.de
SUMMARY:Kundalini Activation meets Innerdance
DESCRIPTION:InnerDance ist eine meditative Reise für mehr Achtsamkeit\, Stressabbau und innere Balance. Durch Musik\, achtsame Berührung und intuitive Bewegungen entsteht ein geschützter Raum für Selbstwahrnehmung\, tiefe Entspannung und mentale Klarheit – ein bewusst erlebter Zustand zwischen Wachsein und Schlaf. \nWährend der Session kannst du in Savasana liegen oder dich nach den Impulsen deines Körpers frei bewegen. Musik\, Rhythmus und achtsame Begleitung beruhigen dein Nervensystem\, fördern entspannende Gehirnwellen wie Alpha und Theta und erleichtern den Übergang vom Denken ins Fühlen. Emotionen\, Erinnerungen\, Bewegungen oder innere Bilder können auftauchen\, sich zeigen und wieder lösen – alles darf geschehen\, nichts wird verlangt. \nDie begleitende\, achtsame Präsenz unterstützt dich dabei\, vollständig im Körper anzukommen und jede Erfahrung bewusst zu erleben.
URL:https://soundofseed.de/event/kundalini-activation-meets-innerdance-3/
LOCATION:Yogastudio: Yogakurse-fulda.de\, Petersberger Str. 22 A\, Fulda\, Hessen\, 36137\, Germany
END:VEVENT
END:VCALENDAR